BEGIN:VCALENDAR
VERSION:2.0
PRODID:gruene-bruck.de
METHOD:PUBLISH
BEGIN:VTIMEZONE
TZID:Europe/Berlin
X-LIC-LOCATION:Europe/Berlin
BEGIN:DAYLIGHT
TZOFFSETFROM:+0100
TZOFFSETTO:+0200
TZNAME:CEST
DTSTART:19700329T020000
RRULE:FREQ=YEARLY;INTERVAL=1;BYDAY=-1SU;BYMONTH=3
END:DAYLIGHT
BEGIN:STANDARD
TZOFFSETFROM:+0200
TZOFFSETTO:+0100
TZNAME:CET
DTSTART:19701025T030000
RRULE:FREQ=YEARLY;INTERVAL=1;BYDAY=-1SU;BYMONTH=10
END:STANDARD
END:VTIMEZONE
BEGIN:VEVENT
UID:7082ca7c1ba67b443e7f293a754b8e4e@gruene-bruck.de
URL;VALUE=URI:https://gruene-bruck.de/termine/groebenzell-maifest-auf-dem
 -rathausplatz/
LOCATION:Gröbenzell, Rathausplatz
SUMMARY:Gröbenzell: Maifest auf dem Rathausplatz
DESCRIPTION;ALTREP="data:text/html,%3Cp%3EAb%2011%3A00%20Uhr%20verwandelt
 %20sich%20der%20Rathausplatz%20in%20eine%20bunte%20Meile.%20Unser%20beson
 derer%20Fokus%20liegt%20dieses%20Jahr%20wieder%20auf%20dem%20Nachhaltigke
 itsmarkt.%20Hier%20findet%20ihr%20regionale%20Aussteller%2C%20innovative%
 20Ideen%20f%C3%BCr%20einen%20gr%C3%BCneren%20Alltag%20und%20echtes%20Hand
 werk.%20Es%20ist%20die%20perfekte%20Gelegenheit%2C%20entspannt%20zu%20sch
 lendern%2C%20sich%20inspirieren%20zu%20lassen%20und%20das%20eine%20oder%2
 0andere%20nachhaltige%20Sch%C3%A4tzchen%20zu%20entdecken.%3Cbr%20%2F%3E%0
 A%3Cbr%20%2F%3E%0AProminente%20G%C3%A4ste%20im%20Dialog%20%F0%9F%8E%A4%3C
 br%20%2F%3E%0A%3Cbr%20%2F%3E%0AWir%20freuen%20uns%20sehr%2C%20dass%20wir%
 20in%20diesem%20Jahr%20auch%20politisches%20Schwergewicht%20in%20Gr%C3%B6
 benzell%20begr%C3%BC%C3%9Fen%20d%C3%BCrfen.%20Freut%20euch%20auf%20spanne
 nde%20Gespr%C3%A4che%20und%20Begegnungen%20mit%3A%3Cbr%20%2F%3E%0A%3Cbr%2
 0%2F%3E%0A%E2%80%A2%20Ludwig%20Hartmann%2C%20MdL%20und%20Vizepr%C3%A4side
 nt%20des%20bayerischen%20Landtags.%3Cbr%20%2F%3E%0A%3Cbr%20%2F%3E%0A%E2%8
 0%A2%20Andreas%20Birzele%2C%20MdL.%3Cbr%20%2F%3E%0A%3Cbr%20%2F%3E%0ANutzt
 %20die%20Chance%2C%20in%20lockerer%20Atmosph%C3%A4re%20mit%20unseren%20Vo
 lksvertretern%20ins%20Gespr%C3%A4ch%20zu%20kommen%20und%20mehr%20%C3%BCbe
 r%20ihre%20Visionen%20f%C3%BCr%20ein%20nachhaltiges%20Bayern%20zu%20erfah
 ren.%3Cbr%20%2F%3E%0A%3Cbr%20%2F%3E%0ASound%20%26amp%3B%20Stimmung%3A%20B
 ig%20Bad%20Wolf%20rockt%20das%20Fest%21%20%F0%9F%8E%B8%F0%9F%90%BA%3Cbr%2
 0%2F%3E%0A%3Cbr%20%2F%3E%0AWas%20w%C3%A4re%20ein%20Maifest%20ohne%20die%2
 0passende%20Musik%3F%20F%C3%BCr%20die%20richtige%20Stimmung%20sorgt%20die
 %20Band%20%E2%80%9EBig%20Bad%20Wolf%E2%80%9C.%20Mit%20ihrem%20unverkennba
 ren%20Sound%20werden%20sie%20daf%C3%BCr%20sorgen%2C%20dass%20auf%20dem%20
 Rathausplatz%20niemand%20lange%20stillsitzt.%20Ob%20bei%20einer%20k%C3%BC
 hlen%20Ma%C3%9F%20oder%20einer%20frischen%20Brezn%20%E2%80%93%20die%20Liv
 e-Musik%20rundet%20das%20bayerische%20Lebensgef%C3%BChl%20perfekt%20ab.%3
 Cbr%20%2F%3E%0A%3Cbr%20%2F%3E%0ADie%20Eckdaten%20auf%20einen%20Blick%3A%3
 Cbr%20%2F%3E%0A%3Cbr%20%2F%3E%0A%E2%80%A2%20WANN%3F%201.%20Mai%202026%2C%
 20von%2011%3A00%20bis%2019%3A00%20Uhr%3Cbr%20%2F%3E%0A%3Cbr%20%2F%3E%0A%E
 2%80%A2%20WO%3F%20Rathausplatz%20Gr%C3%B6benzell%3Cbr%20%2F%3E%0A%3Cbr%20
 %2F%3E%0A%E2%80%A2%20HIGHLIGHTS%3A%20Nachhaltigkeitsmarkt%2C%20Live-Musik
 %20von%20Big%20Bad%20Wolf%2C%20bayerische%20Schmankerl.%3Cbr%20%2F%3E%0A%
 3Cbr%20%2F%3E%0A%E2%80%A2%20SPECIAL%20GUESTS%3A%20Ludwig%20Hartmann%20%26
 amp%3B%20Andreas%20Birzele.%3Cbr%20%2F%3E%0A%3Cbr%20%2F%3E%0AKommt%20vorb
 ei%2C%20bringt%20eure%20Freunde%20und%20Familie%20mit%20und%20lasst%20uns
 %20gemeinsam%20einen%20unvergesslichen%20Tag%20verbringen.%20Wir%20setzen
 %20ein%20Zeichen%20f%C3%BCr%20ein%20lebendiges%2C%20nachhaltiges%20und%20
 fr%C3%B6hliches%20Miteinander%20in%20Gr%C3%B6benzell%21%3Cbr%20%2F%3E%0A%
 3Cbr%20%2F%3E%0AWir%20freuen%20uns%20auf%20euch%21%20%E2%98%80%EF%B8%8F%F
 0%9F%8C%B1%3C%2Fp%3E":Ab 11:00 Uhr verwandelt sich der Rathausplatz in ei
 ne bunte Meile. Unser besonderer Fokus liegt dieses Jahr wieder auf dem N
 achhaltigkeitsmarkt. Hier findet ihr regionale Aussteller\, innovative Id
 een für einen grüneren Alltag und echtes Handwerk. Es ist die perfekte 
 Gelegenheit\, entspannt zu schlendern\, sich inspirieren zu lassen und da
 s eine oder andere nachhaltige Schätzchen zu entdecken.\n\nProminente G
 äste im Dialog 🎤\n\nWir freuen uns sehr\, dass wir in diesem Jahr auc
 h politisches Schwergewicht in Gröbenzell begrüßen dürfen. Freut euch
  auf spannende Gespräche und Begegnungen mit:\n\n• Ludwig Hartmann\, M
 dL und Vizepräsident des bayerischen Landtags.\n\n• Andreas Birzele\, 
 MdL.\n\nNutzt die Chance\, in lockerer Atmosphäre mit unseren Volksvertr
 etern ins Gespräch zu kommen und mehr über ihre Visionen für ein nachh
 altiges Bayern zu erfahren.\n\nSound & Stimmung: Big Bad Wolf rockt das F
 est! 🎸🐺\n\nWas wäre ein Maifest ohne die passende Musik? Für die 
 richtige Stimmung sorgt die Band „Big Bad Wolf“. Mit ihrem unverkennb
 aren Sound werden sie dafür sorgen\, dass auf dem Rathausplatz niemand l
 ange stillsitzt. Ob bei einer kühlen Maß oder einer frischen Brezn – 
 die Live-Musik rundet das bayerische Lebensgefühl perfekt ab.\n\nDie Eck
 daten auf einen Blick:\n\n• WANN? 1. Mai 2026\, von 11:00 bis 19:00 Uhr
 \n\n• WO? Rathausplatz Gröbenzell\n\n• HIGHLIGHTS: Nachhaltigkeitsma
 rkt\, Live-Musik von Big Bad Wolf\, bayerische Schmankerl.\n\n• SPECIAL
  GUESTS: Ludwig Hartmann & Andreas Birzele.\n\nKommt vorbei\, bringt eure
  Freunde und Familie mit und lasst uns gemeinsam einen unvergesslichen Ta
 g verbringen. Wir setzen ein Zeichen für ein lebendiges\, nachhaltiges u
 nd fröhliches Miteinander in Gröbenzell!\n\nWir freuen uns auf euch! 
 ☀️🌱
CLASS:PUBLIC
DTSTART;TZID=Europe/Berlin:20260501T110000
DTEND;TZID=Europe/Berlin:20260501T190000
DTSTAMP:20260421T101612
END:VEVENT
END:VCALENDAR