BEGIN:VCALENDAR
VERSION:2.0
PRODID:gruene-bruck.de
METHOD:PUBLISH
BEGIN:VTIMEZONE
TZID:Europe/Berlin
X-LIC-LOCATION:Europe/Berlin
BEGIN:DAYLIGHT
TZOFFSETFROM:+0100
TZOFFSETTO:+0200
TZNAME:CEST
DTSTART:19700329T020000
RRULE:FREQ=YEARLY;INTERVAL=1;BYDAY=-1SU;BYMONTH=3
END:DAYLIGHT
BEGIN:STANDARD
TZOFFSETFROM:+0200
TZOFFSETTO:+0100
TZNAME:CET
DTSTART:19701025T030000
RRULE:FREQ=YEARLY;INTERVAL=1;BYDAY=-1SU;BYMONTH=10
END:STANDARD
END:VTIMEZONE
BEGIN:VEVENT
UID:01da08567d5baf7a9b2f233cc86615cd@gruene-bruck.de
URL;VALUE=URI:https://gruene-bruck.de/termine/kreismitgliederversammlung/
LOCATION:Bürgerhaus, Emmering
SUMMARY:Kreismitgliederversammlung
DESCRIPTION;ALTREP="data:text/html,%0A%3Cp%3ESo%20haben%20wir%20nicht%20n
 ur%20die%20Kreisfinanzen%20grunds%C3%A4tzlich%20auf%20ein%20neues%20Funda
 ment%20gestellt%2C%20sondern%20auch%20mit%20der%20Einstellung%20eines%20n
 euen%20Gesch%C3%A4ftsf%C3%BChrers%20eine%20dr%C3%A4ngende%20organisatoris
 che%20L%C3%BCcke%20schlie%C3%9Fen%20k%C3%B6nnen.%20Mit%20der%20Verabschie
 dung%20des%20Wahkampfbudgets%20und%20des%20Haushalts%202023%20ist%20zudem
 %20sichergestellt%2C%20dass%20der%20KV%20und%20das%20Wahlkampfteam%20in%2
 0diesem%20wichtigen%20Wahljahr%20erfolgreich%26nbsp%3Bhandeln%20k%C3%B6nn
 en.%3C%2Fp%3E%0A%0A%0A%0A%3Cp%3EWir%20freuen%20uns%2C%20dass%20wir%20uns%
 20im%20Kreisverband%20auch%20inhaltlich%20umfassend%20mit%20dem%20Regieru
 ngsprogramm%20auseinandergesetzt%20haben%2C%20das%20auf%20der%20Programm-
 LDK%20Ende%20Mai%20final%20abgestimmt%20wird.%26nbsp%3B%20Denn%20es%20wer
 den%2C%20wie%20auf%20der%20KMV%20beschlossen%2C%205%20%C3%84nderungsantr%
 C3%A4ge%20im%20Namen%20unseres%20KV%20eingereicht.%20Abschlie%C3%9Fend%20
 stimmten%20die%20anwesenden%20Mitglieder%20mit%20knapper%20Mehrheit%20f%C
 3%BCr%20einen%20Antrag%20des%20KV%20Cloppenburg.%20Dieser%20Antrag%20ford
 ert%20eine%20Sonder-BDK%20mit%20dem%20Ziel%2C%20unsere%20roten%20Linien%2
 0in%20der%20Regierungskoalition%20zu%20debattieren%20und%20festzulegen.%3
 C%2Fp%3E%0A":So haben wir nicht nur die Kreisfinanzen grundsätzlich auf 
 ein neues Fundament gestellt\, sondern auch mit der Einstellung eines neu
 en Geschäftsführers eine drängende organisatorische Lücke schließen 
 können. Mit der Verabschiedung des Wahkampfbudgets und des Haushalts 202
 3 ist zudem sichergestellt\, dass der KV und das Wahlkampfteam in diesem 
 wichtigen Wahljahr erfolgreich handeln können.\n\nWir freuen uns\, dass
  wir uns im Kreisverband auch inhaltlich umfassend mit dem Regierungsprog
 ramm auseinandergesetzt haben\, das auf der Programm-LDK Ende Mai final a
 bgestimmt wird.  Denn es werden\, wie auf der KMV beschlossen\, 5 Änder
 ungsanträge im Namen unseres KV eingereicht. Abschließend stimmten die 
 anwesenden Mitglieder mit knapper Mehrheit für einen Antrag des KV Clopp
 enburg. Dieser Antrag fordert eine Sonder-BDK mit dem Ziel\, unsere roten
  Linien in der Regierungskoalition zu debattieren und festzulegen.
CLASS:PUBLIC
DTSTART;TZID=Europe/Berlin:20230720T190000
DTEND;TZID=Europe/Berlin:20230720T200000
DTSTAMP:20260420T012050
END:VEVENT
END:VCALENDAR