BEGIN:VCALENDAR
VERSION:2.0
PRODID:gruene-bruck.de
METHOD:PUBLISH
BEGIN:VTIMEZONE
TZID:Europe/Berlin
X-LIC-LOCATION:Europe/Berlin
BEGIN:DAYLIGHT
TZOFFSETFROM:+0100
TZOFFSETTO:+0200
TZNAME:CEST
DTSTART:19700329T020000
RRULE:FREQ=YEARLY;INTERVAL=1;BYDAY=-1SU;BYMONTH=3
END:DAYLIGHT
BEGIN:STANDARD
TZOFFSETFROM:+0200
TZOFFSETTO:+0100
TZNAME:CET
DTSTART:19701025T030000
RRULE:FREQ=YEARLY;INTERVAL=1;BYDAY=-1SU;BYMONTH=10
END:STANDARD
END:VTIMEZONE
BEGIN:VEVENT
UID:13e467504e138fd2f7c5571b0ac3838f@gruene-bruck.de
URL;VALUE=URI:https://gruene-bruck.de/termine/safe-the-date-verleihung-de
 s-gruenen-wanningers/
LOCATION:Deutsches Hopfenmuseum
Elsenheimerstraße 2, 85283 Wolnzach
SUMMARY:Save the Date: Verleihung des grünen Wanningers
DESCRIPTION;ALTREP="data:text/html,%3Cp%3ESehr%20geehrte%20Damen%20und%20
 Herren%2C%3Cbr%20%2F%3E%0Aliebe%20Freundinnen%20und%20Freunde%2C%3Cbr%20%
 2F%3E%0A%3Cbr%20%2F%3E%0Awer%20in%20diesem%20Jahr%20den%20Gr%C3%BCnen%20W
 anninger%20erh%C3%A4lt%2C%20bleibt%20noch%20unser%20Geheimnis%2C%20doch%2
 0eines%20k%C3%B6nnen%20wir%20schon%20jetzt%20verraten%3A%20am%2021.%20Jun
 i%202026%20erwartet%20Sie%20ein%20Nachmittag%20und%20Abend%20voller%20Kul
 tur%2C%20Musik%20und%20besonderer%20Begegnungen%20in%20Wolnzach%3A%3Cbr%2
 0%2F%3E%0A%3Cbr%20%2F%3E%0A21.%20Juni%202026%20um%2017%3A00%20Uhr%3Cbr%20
 %2F%3E%0ADeutsches%20Hopfenmuseum%3Cbr%20%2F%3E%0AElsenheimerstra%C3%9Fe%
 202%2C%2085283%20Wolnzach%3Cbr%20%2F%3E%0A%28Um%2015%3A30%20Uhr%20wird%20
 auch%20eine%20F%C3%BChrung%20im%20Hopfenmuseum%20angeboten%29%3Cbr%20%2F%
 3E%0A%3Cbr%20%2F%3E%0ASeit%201988%20verleiht%20die%20Fraktion%20B%C3%9CND
 NIS%2090%2FDIE%20GR%C3%9CNEN%20im%20Bezirkstag%20Oberbayern%20den%20%E2%8
 0%9EGr%C3%BCnen%20Wanninger%E2%80%9C%20%E2%80%93%20einen%20Kulturpreis%2C
 %20der%20l%C3%A4ngst%20zu%20einem%20festen%20Bestandteil%20gr%C3%BCner%20
 Kulturarbeit%20geworden%20ist.%20Ausgezeichnet%20werden%20Menschen%2C%20I
 nitiativen%20und%20Projekte%2C%20die%20mit%20ihrer%20Arbeit%20soziale%2C%
 20%C3%B6kologische%20oder%20politische%20Impulse%20setzen%2C%20die%20nich
 t%20nur%20unterhalten%2C%20sondern%20auch%20zum%20Nachdenken%20anregen%2C
 %20Gemeinschaft%20f%C3%B6rdern%20und%20unsere%20Gesellschaft%20bereichern
 .%3Cbr%20%2F%3E%0A%3Cbr%20%2F%3E%0ADie%20Preisverleihung%20am%2021.%20Jun
 i%20wird%20von%20einem%20abwechslungsreichen%20k%C3%BCnstlerischen%20Rahm
 enprogramm%20begleitet%3A%20Musik%2C%20Kultur%2C%20inspirierende%20Begegn
 ungen%20und%20lebendige%20Gespr%C3%A4che%20inklusive.%3Cbr%20%2F%3E%0A%3C
 br%20%2F%3E%0AMerken%20Sie%20sich%20den%20Termin%20schon%20jetzt%20vor%20
 und%20feiern%20Sie%20mit%20uns%20Menschen%2C%20die%20Oberbayern%20mit%20L
 eidenschaft%2C%20Kreativit%C3%A4t%20und%20Haltung%20bereichern.%20Die%20o
 ffizielle%20Einladung%20mit%20allen%20Programmdetails%20folgt%20in%20K%C3
 %BCrze.%3C%2Fp%3E":Sehr geehrte Damen und Herren\,\n\nliebe Freundinnen u
 nd Freunde\,\n\nwer in diesem Jahr den Grünen Wanninger erhält\, bleibt
  noch unser Geheimnis\, doch eines können wir schon jetzt verraten: am 2
 1. Juni 2026 erwartet Sie ein Nachmittag und Abend voller Kultur\, Musik 
 und besonderer Begegnungen in Wolnzach:\n\n21. Juni 2026 um 17:00 Uhr\n\n
 Deutsches Hopfenmuseum\n\nElsenheimerstraße 2\, 85283 Wolnzach\n\n(Um 15
 :30 Uhr wird auch eine Führung im Hopfenmuseum angeboten)\n\nSeit 1988 v
 erleiht die Fraktion BÜNDNIS 90/DIE GRÜNEN im Bezirkstag Oberbayern den
  „Grünen Wanninger“ – einen Kulturpreis\, der längst zu einem fes
 ten Bestandteil grüner Kulturarbeit geworden ist. Ausgezeichnet werden M
 enschen\, Initiativen und Projekte\, die mit ihrer Arbeit soziale\, ökol
 ogische oder politische Impulse setzen\, die nicht nur unterhalten\, sond
 ern auch zum Nachdenken anregen\, Gemeinschaft fördern und unsere Gesell
 schaft bereichern.\n\nDie Preisverleihung am 21. Juni wird von einem abwe
 chslungsreichen künstlerischen Rahmenprogramm begleitet: Musik\, Kultur\
 , inspirierende Begegnungen und lebendige Gespräche inklusive.\n\nMerken
  Sie sich den Termin schon jetzt vor und feiern Sie mit uns Menschen\, di
 e Oberbayern mit Leidenschaft\, Kreativität und Haltung bereichern. Die 
 offizielle Einladung mit allen Programmdetails folgt in Kürze.
CLASS:PUBLIC
DTSTART;TZID=Europe/Berlin:20260621T170000
DTEND;TZID=Europe/Berlin:20260621T220000
DTSTAMP:20260421T100608
END:VEVENT
END:VCALENDAR